BEGIN:VCALENDAR
VERSION:2.0
PRODID:-//財團法人阿南達瑪迦公益基金會 - ECPv6.15.20//NONSGML v1.0//EN
CALSCALE:GREGORIAN
METHOD:PUBLISH
X-ORIGINAL-URL:https://am.org.tw
X-WR-CALDESC:Events for 財團法人阿南達瑪迦公益基金會
REFRESH-INTERVAL;VALUE=DURATION:PT1H
X-Robots-Tag:noindex
X-PUBLISHED-TTL:PT1H
BEGIN:VTIMEZONE
TZID:UTC
BEGIN:STANDARD
TZOFFSETFROM:+0000
TZOFFSETTO:+0000
TZNAME:UTC
DTSTART:20250101T000000
END:STANDARD
END:VTIMEZONE
BEGIN:VEVENT
DTSTART;TZID=UTC:20260121T140000
DTEND;TZID=UTC:20260125T140000
DTSTAMP:20260419T231424
CREATED:20240524T031218Z
LAST-MODIFIED:20251125T063311Z
UID:2198-1769004000-1769349600@am.org.tw
SUMMARY:2026冬季大專青年瑜伽靜坐成長營
DESCRIPTION:線上報名
URL:https://am.org.tw/event/studentcamp/
LOCATION:阿南達瑪迦靈性生態村\, 台南市玉井區沙田里56-4號\, Taiwan
CATEGORIES:Chinese,student camp
ATTACH;FMTTYPE=image/jpeg:https://am.org.tw/wp-content/uploads/2024/05/youth-yoga-meditation-camp.jpg
ORGANIZER;CN="%E9%98%BF%E5%8D%97%E9%81%94%E7%91%AA%E8%BF%A6":MAILTO:info@yogafasting.tw
END:VEVENT
END:VCALENDAR