BEGIN:VCALENDAR
VERSION:2.0
PRODID:-//財團法人阿南達瑪迦公益基金會 - ECPv6.15.20//NONSGML v1.0//EN
CALSCALE:GREGORIAN
METHOD:PUBLISH
X-WR-CALNAME:財團法人阿南達瑪迦公益基金會
X-ORIGINAL-URL:https://am.org.tw
X-WR-CALDESC:Events for 財團法人阿南達瑪迦公益基金會
REFRESH-INTERVAL;VALUE=DURATION:PT1H
X-Robots-Tag:noindex
X-PUBLISHED-TTL:PT1H
BEGIN:VTIMEZONE
TZID:UTC
BEGIN:STANDARD
TZOFFSETFROM:+0000
TZOFFSETTO:+0000
TZNAME:UTC
DTSTART:20240101T000000
END:STANDARD
END:VTIMEZONE
BEGIN:VEVENT
DTSTART;TZID=UTC:20250710T060000
DTEND;TZID=UTC:20250713T060000
DTSTAMP:20260420T141700
CREATED:20240524T015914Z
LAST-MODIFIED:20250612T051614Z
UID:2098-1752127200-1752386400@am.org.tw
SUMMARY:48小時Kiirtan與3日長靜坐
DESCRIPTION:線上報名
URL:https://am.org.tw/event/48-hours-kiirtan/
LOCATION:阿南達瑪迦靈性生態村\, 台南市玉井區沙田里56-4號\, Taiwan
CATEGORIES:Chinese,conference
ATTACH;FMTTYPE=image/jpeg:https://am.org.tw/wp-content/uploads/2024/05/4daysAKbanner.jpg
END:VEVENT
END:VCALENDAR