BEGIN:VCALENDAR
VERSION:2.0
PRODID:-//財團法人阿南達瑪迦公益基金會 - ECPv6.15.20//NONSGML v1.0//EN
CALSCALE:GREGORIAN
METHOD:PUBLISH
X-WR-CALNAME:財團法人阿南達瑪迦公益基金會
X-ORIGINAL-URL:https://am.org.tw
X-WR-CALDESC:Events for 財團法人阿南達瑪迦公益基金會
REFRESH-INTERVAL;VALUE=DURATION:PT1H
X-Robots-Tag:noindex
X-PUBLISHED-TTL:PT1H
BEGIN:VTIMEZONE
TZID:UTC
BEGIN:STANDARD
TZOFFSETFROM:+0000
TZOFFSETTO:+0000
TZNAME:UTC
DTSTART:20230101T000000
END:STANDARD
END:VTIMEZONE
BEGIN:VEVENT
DTSTART;TZID=UTC:20241007T170000
DTEND;TZID=UTC:20241013T110000
DTSTAMP:20260422T133711
CREATED:20240524T014825Z
LAST-MODIFIED:20240628T105309Z
UID:2085-1728320400-1728817200@am.org.tw
SUMMARY:DMS大法會
DESCRIPTION:DMS大法會活動資訊 \n \n 
URL:https://am.org.tw/event/dms%e5%a4%a7%e6%b3%95%e6%9c%83/
LOCATION:阿南達瑪迦靈性生態村\, 台南市玉井區沙田里56-4號\, Taiwan
CATEGORIES:Chinese,conference
ATTACH;FMTTYPE=image/jpeg:https://am.org.tw/wp-content/uploads/2024/05/DMS.jpeg
ORGANIZER;CN="%E9%98%BF%E5%8D%97%E9%81%94%E7%91%AA%E8%BF%A6":MAILTO:info@yogafasting.tw
END:VEVENT
END:VCALENDAR